Package: DAPAR Version: 1.40.0 Command: /home/biocbuild/R/R/bin/R CMD INSTALL DAPAR StartedAt: 2025-10-06 20:56:42 -0000 (Mon, 06 Oct 2025) EndedAt: 2025-10-06 20:57:45 -0000 (Mon, 06 Oct 2025) EllapsedTime: 63.3 seconds RetCode: 0 Status: OK