Package: DAPAR Version: 1.40.0 Command: /Library/Frameworks/R.framework/Resources/bin/R CMD INSTALL DAPAR StartedAt: 2025-04-21 15:21:50 -0400 (Mon, 21 Apr 2025) EndedAt: 2025-04-21 15:22:08 -0400 (Mon, 21 Apr 2025) EllapsedTime: 17.4 seconds RetCode: 0 Status: OK