Package: DAMEfinder Version: 1.22.0 Command: /home/biocbuild/bbs-3.22-bioc/R/bin/R CMD INSTALL DAMEfinder StartedAt: 2025-11-11 15:49:44 -0500 (Tue, 11 Nov 2025) EndedAt: 2025-11-11 15:50:13 -0500 (Tue, 11 Nov 2025) EllapsedTime: 28.6 seconds RetCode: 0 Status: OK