Package: CytoPipelineGUI Version: 1.8.0 Command: /home/biocbuild/R/R/bin/R CMD INSTALL CytoPipelineGUI StartedAt: 2025-11-10 21:42:38 -0000 (Mon, 10 Nov 2025) EndedAt: 2025-11-10 21:42:56 -0000 (Mon, 10 Nov 2025) EllapsedTime: 18.6 seconds RetCode: 0 Status: OK