Package: CytoPipelineGUI Version: 1.8.0 Command: /home/biocbuild/R/R/bin/R CMD check --install=check:CytoPipelineGUI.install-out.txt --library=/home/biocbuild/R/R/site-library --no-vignettes --timings CytoPipelineGUI_1.8.0.tar.gz StartedAt: 2025-11-11 08:47:01 -0000 (Tue, 11 Nov 2025) EndedAt: 2025-11-11 08:50:53 -0000 (Tue, 11 Nov 2025) EllapsedTime: 231.2 seconds RetCode: 0 Status: OK CheckDir: CytoPipelineGUI.Rcheck Warnings: 0