Package: CytoPipelineGUI Version: 1.8.0 Command: /home/biocbuild/R/R/bin/R CMD build --keep-empty-dirs --no-resave-data CytoPipelineGUI StartedAt: 2025-11-11 00:57:58 -0000 (Tue, 11 Nov 2025) EndedAt: 2025-11-11 00:59:00 -0000 (Tue, 11 Nov 2025) EllapsedTime: 62.0 seconds RetCode: 0 Status: OK PackageFile: CytoPipelineGUI_1.8.0.tar.gz PackageFileSize: 1.189 MiB