Package: CytoPipelineGUI Version: 1.8.0 Command: /home/biocbuild/bbs-3.22-bioc/R/bin/R CMD INSTALL CytoPipelineGUI StartedAt: 2025-11-11 15:38:25 -0500 (Tue, 11 Nov 2025) EndedAt: 2025-11-11 15:38:38 -0500 (Tue, 11 Nov 2025) EllapsedTime: 13.0 seconds RetCode: 0 Status: OK