Package: CytoPipelineGUI Version: 1.8.0 Command: /home/biocbuild/bbs-3.22-bioc/R/bin/R CMD check --install=check:CytoPipelineGUI.install-out.txt --library=/home/biocbuild/bbs-3.22-bioc/R/site-library --timings CytoPipelineGUI_1.8.0.tar.gz StartedAt: 2025-11-11 22:47:17 -0500 (Tue, 11 Nov 2025) EndedAt: 2025-11-11 22:50:35 -0500 (Tue, 11 Nov 2025) EllapsedTime: 198.2 seconds RetCode: 0 Status: OK CheckDir: CytoPipelineGUI.Rcheck Warnings: 0