Package: CytoPipelineGUI Version: 1.6.0 Command: /home/biocbuild/bbs-3.21-bioc/R/bin/R CMD check --install=check:CytoPipelineGUI.install-out.txt --library=/home/biocbuild/bbs-3.21-bioc/R/site-library --timings CytoPipelineGUI_1.6.0.tar.gz StartedAt: 2025-09-28 22:29:52 -0400 (Sun, 28 Sep 2025) EndedAt: 2025-09-28 22:33:10 -0400 (Sun, 28 Sep 2025) EllapsedTime: 198.2 seconds RetCode: 0 Status: OK CheckDir: CytoPipelineGUI.Rcheck Warnings: 0