Package: CytoPipeline Version: 1.10.0 Command: /home/biocbuild/R/R/bin/R CMD INSTALL CytoPipeline StartedAt: 2025-11-10 21:42:15 -0000 (Mon, 10 Nov 2025) EndedAt: 2025-11-10 21:42:37 -0000 (Mon, 10 Nov 2025) EllapsedTime: 22.3 seconds RetCode: 0 Status: OK