Package: CytoPipeline Version: 1.10.0 Command: /home/biocbuild/R/R/bin/R CMD build --keep-empty-dirs --no-resave-data CytoPipeline StartedAt: 2025-11-11 00:57:57 -0000 (Tue, 11 Nov 2025) EndedAt: 2025-11-11 00:59:05 -0000 (Tue, 11 Nov 2025) EllapsedTime: 68.0 seconds RetCode: 0 Status: OK PackageFile: CytoPipeline_1.10.0.tar.gz PackageFileSize: 2.768 MiB