Package: CytoPipeline Version: 1.10.0 Command: /home/biocbuild/bbs-3.22-bioc/R/bin/R CMD INSTALL CytoPipeline StartedAt: 2025-11-11 15:38:08 -0500 (Tue, 11 Nov 2025) EndedAt: 2025-11-11 15:38:25 -0500 (Tue, 11 Nov 2025) EllapsedTime: 16.9 seconds RetCode: 0 Status: OK