Package: CytoPipeline Version: 1.10.0 Command: /home/biocbuild/bbs-3.22-bioc/R/bin/R CMD check --install=check:CytoPipeline.install-out.txt --library=/home/biocbuild/bbs-3.22-bioc/R/site-library --timings CytoPipeline_1.10.0.tar.gz StartedAt: 2025-11-11 22:47:09 -0500 (Tue, 11 Nov 2025) EndedAt: 2025-11-11 22:51:59 -0500 (Tue, 11 Nov 2025) EllapsedTime: 290.2 seconds RetCode: 0 Status: OK CheckDir: CytoPipeline.Rcheck Warnings: 0