Package: CytoPipeline Version: 1.8.0 Command: /Library/Frameworks/R.framework/Resources/bin/R CMD INSTALL CytoPipeline StartedAt: 2025-09-25 15:55:15 -0400 (Thu, 25 Sep 2025) EndedAt: 2025-09-25 15:55:33 -0400 (Thu, 25 Sep 2025) EllapsedTime: 17.7 seconds RetCode: 0 Status: OK