Back to Build/check report for BioC 3.22:   simplified   long
AB[C]DEFGHIJKLMNOPQRSTUVWXYZ

This page was generated on 2025-11-13 11:55 -0500 (Thu, 13 Nov 2025).

HostnameOSArch (*)R versionInstalled pkgs
taishanLinux (openEuler 24.03 LTS)aarch644.5.0 (2025-04-11) -- "How About a Twenty-Six" 4668
Click on any hostname to see more info about the system (e.g. compilers)      (*) as reported by 'uname -p', except on Windows and Mac OS X

All results for package CytoPipeline


To the developers/maintainers of the CytoPipeline package:
- Allow up to 24 hours (and sometimes 48 hours) for your latest push to git@git.bioconductor.org:packages/CytoPipeline.git to reflect on this report. See Troubleshooting Build Report for more information.
- Use the following Renviron settings to reproduce errors and warnings.
- If 'R CMD check' started to fail recently on the Linux builder(s) over a missing dependency, add the missing dependency to 'Suggests:' in your DESCRIPTION file. See Renviron.bioc for more information.

raw results

Package 513/2361HostnameOS / ArchINSTALLBUILDCHECKBUILD BIN
CytoPipeline 1.10.0  (landing page)
Philippe Hauchamps
Snapshot Date: 2025-11-12 13:45 -0500 (Wed, 12 Nov 2025)
git_url: https://git.bioconductor.org/packages/CytoPipeline
git_branch: RELEASE_3_22
git_last_commit: 4cb0101
git_last_commit_date: 2025-10-29 11:20:49 -0500 (Wed, 29 Oct 2025)
taishanLinux (openEuler 24.03 LTS) / aarch64  OK    OK    OK  



Results for Bioconductor software packages that depend directly on package CytoPipeline

QUICK STATSOS / ArchINSTALLBUILDCHECKBUILD BIN
taishanLinux (openEuler 24.03 LTS) / aarch64
002
002
0002
Package 1/2HostnameOS / ArchINSTALLBUILDCHECKBUILD BIN
CytoMDS 1.6.0  (landing page)
Philippe Hauchamps
git_last_commit: 778219a
git_last_commit_date: 2025-10-29 11:28:49 -0500
taishanLinux (openEuler 24.03 LTS) / aarch64  OK    OK    OK  
Package 2/2HostnameOS / ArchINSTALLBUILDCHECKBUILD BIN
CytoPipelineGUI 1.8.0  (landing page)
Philippe Hauchamps
git_last_commit: 9a3910e
git_last_commit_date: 2025-10-29 11:25:00 -0500
taishanLinux (openEuler 24.03 LTS) / aarch64  OK    OK    OK