Package: CytoML Version: 2.22.0 Command: /home/biocbuild/R/R/bin/R CMD INSTALL CytoML StartedAt: 2025-11-10 21:42:13 -0000 (Mon, 10 Nov 2025) EndedAt: 2025-11-10 21:43:39 -0000 (Mon, 10 Nov 2025) EllapsedTime: 85.4 seconds RetCode: 0 Status: OK