Package: CytoML Version: 2.22.0 Command: /home/biocbuild/R/R/bin/R CMD build --keep-empty-dirs --no-resave-data CytoML StartedAt: 2025-11-11 00:57:39 -0000 (Tue, 11 Nov 2025) EndedAt: 2025-11-11 00:59:52 -0000 (Tue, 11 Nov 2025) EllapsedTime: 133.0 seconds RetCode: 0 Status: OK PackageFile: CytoML_2.22.0.tar.gz PackageFileSize: 7.869 MiB