Package: CytoML Version: 2.22.0 Command: /home/biocbuild/bbs-3.22-bioc/R/bin/R CMD check --install=check:CytoML.install-out.txt --library=/home/biocbuild/bbs-3.22-bioc/R/site-library --timings CytoML_2.22.0.tar.gz StartedAt: 2025-11-13 22:45:58 -0500 (Thu, 13 Nov 2025) EndedAt: 2025-11-13 22:49:33 -0500 (Thu, 13 Nov 2025) EllapsedTime: 215.1 seconds RetCode: 0 Status: WARNINGS CheckDir: CytoML.Rcheck Warnings: 5