Package: CytoML Version: 2.20.0 Command: /Library/Frameworks/R.framework/Resources/bin/R CMD INSTALL CytoML StartedAt: 2025-10-09 15:59:05 -0400 (Thu, 09 Oct 2025) EndedAt: 2025-10-09 16:01:10 -0400 (Thu, 09 Oct 2025) EllapsedTime: 125.4 seconds RetCode: 0 Status: OK