Package: CytoML Version: 2.20.0 Command: /Library/Frameworks/R.framework/Resources/bin/R CMD build --keep-empty-dirs --no-resave-data CytoML StartedAt: 2025-10-06 18:17:43 -0400 (Mon, 06 Oct 2025) EndedAt: 2025-10-06 18:21:11 -0400 (Mon, 06 Oct 2025) EllapsedTime: 207.2 seconds RetCode: 0 Status: OK PackageFile: CytoML_2.20.0.tar.gz PackageFileSize: 8.568 MiB