Package: CytoML Version: 2.20.0 Command: rm -rf CytoML.buildbin-libdir && mkdir CytoML.buildbin-libdir && /Users/biocbuild/BBS/utils/build-universal.sh CytoML_2.20.0.tar.gz /Library/Frameworks/R.framework/Resources/bin/R CytoML.buildbin-libdir StartedAt: 2025-10-07 12:57:52 -0400 (Tue, 07 Oct 2025) EndedAt: 2025-10-07 13:00:10 -0400 (Tue, 07 Oct 2025) EllapsedTime: 137.3 seconds RetCode: 0 Status: OK PackageFile: CytoML_2.20.0.tgz PackageFileSize: 9.593 MiB