Package: CytoML Version: 2.19.3 Command: rm -rf CytoML.buildbin-libdir && mkdir CytoML.buildbin-libdir && /Users/biocbuild/BBS/utils/build-universal.sh CytoML_2.19.3.tar.gz /Library/Frameworks/R.framework/Resources/bin/R CytoML.buildbin-libdir StartedAt: 2025-04-09 22:38:33 -0400 (Wed, 09 Apr 2025) EndedAt: 2025-04-09 22:38:57 -0400 (Wed, 09 Apr 2025) EllapsedTime: 24.6 seconds RetCode: 0 Status: OK PackageFile: CytoML_2.19.3.tgz PackageFileSize: 9.19 MiB