Package: CytoMDS Version: 1.6.0 Command: /home/biocbuild/bbs-3.22-bioc/R/bin/R CMD INSTALL CytoMDS StartedAt: 2025-11-13 15:36:26 -0500 (Thu, 13 Nov 2025) EndedAt: 2025-11-13 15:36:41 -0500 (Thu, 13 Nov 2025) EllapsedTime: 15.2 seconds RetCode: 0 Status: OK