Package: CytoMDS Version: 1.6.0 Command: /home/biocbuild/bbs-3.22-bioc/R/bin/R CMD check --install=check:CytoMDS.install-out.txt --library=/home/biocbuild/bbs-3.22-bioc/R/site-library --timings CytoMDS_1.6.0.tar.gz StartedAt: 2025-11-13 22:45:23 -0500 (Thu, 13 Nov 2025) EndedAt: 2025-11-13 22:55:53 -0500 (Thu, 13 Nov 2025) EllapsedTime: 629.5 seconds RetCode: 1 Status: ERROR CheckDir: CytoMDS.Rcheck Warnings: NA