Package: CytoMDS Version: 1.4.0 Command: /home/biocbuild/bbs-3.21-bioc/R/bin/R CMD build --keep-empty-dirs --no-resave-data CytoMDS StartedAt: 2025-10-15 17:02:16 -0400 (Wed, 15 Oct 2025) EndedAt: 2025-10-15 17:05:06 -0400 (Wed, 15 Oct 2025) EllapsedTime: 170.2 seconds RetCode: 0 Status: OK PackageFile: CytoMDS_1.4.0.tar.gz PackageFileSize: 5.26 MiB