Package: CytoMDS Version: 1.6.0 Command: /Library/Frameworks/R.framework/Resources/bin/R CMD INSTALL CytoMDS StartedAt: 2025-11-03 15:38:12 -0500 (Mon, 03 Nov 2025) EndedAt: 2025-11-03 15:38:35 -0500 (Mon, 03 Nov 2025) EllapsedTime: 23.0 seconds RetCode: 0 Status: OK