Package: CytoMDS Version: 1.6.0 Command: /Library/Frameworks/R.framework/Resources/bin/R CMD build --keep-empty-dirs --no-resave-data CytoMDS StartedAt: 2025-11-03 16:40:33 -0500 (Mon, 03 Nov 2025) EndedAt: 2025-11-03 16:44:09 -0500 (Mon, 03 Nov 2025) EllapsedTime: 215.9 seconds RetCode: 0 Status: OK PackageFile: CytoMDS_1.6.0.tar.gz PackageFileSize: 5.071 MiB