Package: CytoMDS Version: 1.4.0 Command: /home/biocbuild/R/R/bin/R CMD INSTALL CytoMDS StartedAt: 2025-10-06 20:48:31 -0000 (Mon, 06 Oct 2025) EndedAt: 2025-10-06 20:48:51 -0000 (Mon, 06 Oct 2025) EllapsedTime: 20.2 seconds RetCode: 0 Status: OK