Package: CytoMDS Version: 1.4.0 Command: /home/biocbuild/R/R/bin/R CMD build --keep-empty-dirs --no-resave-data CytoMDS StartedAt: 2025-10-07 00:04:37 -0000 (Tue, 07 Oct 2025) EndedAt: 2025-10-07 00:08:35 -0000 (Tue, 07 Oct 2025) EllapsedTime: 238.1 seconds RetCode: 0 Status: OK PackageFile: CytoMDS_1.4.0.tar.gz PackageFileSize: 4.875 MiB