Package: CytoMDS Version: 1.6.0 Command: /Library/Frameworks/R.framework/Resources/bin/R CMD INSTALL CytoMDS StartedAt: 2025-11-10 15:10:18 -0500 (Mon, 10 Nov 2025) EndedAt: 2025-11-10 15:10:24 -0500 (Mon, 10 Nov 2025) EllapsedTime: 5.9 seconds RetCode: 0 Status: OK