Package: CytoMDS Version: 1.6.0 Command: /Library/Frameworks/R.framework/Resources/bin/R CMD build --keep-empty-dirs --no-resave-data CytoMDS StartedAt: 2025-11-10 16:06:29 -0500 (Mon, 10 Nov 2025) EndedAt: 2025-11-10 16:07:50 -0500 (Mon, 10 Nov 2025) EllapsedTime: 80.9 seconds RetCode: 0 Status: OK PackageFile: CytoMDS_1.6.0.tar.gz PackageFileSize: 5.066 MiB