Package: CytoMDS Version: 1.6.0 Command: rm -rf CytoMDS.buildbin-libdir && mkdir CytoMDS.buildbin-libdir && /Users/biocbuild/BBS/utils/build-universal.sh CytoMDS_1.6.0.tar.gz /Library/Frameworks/R.framework/Resources/bin/R CytoMDS.buildbin-libdir StartedAt: 2025-11-10 23:16:55 -0500 (Mon, 10 Nov 2025) EndedAt: 2025-11-10 23:17:02 -0500 (Mon, 10 Nov 2025) EllapsedTime: 7.2 seconds RetCode: 0 Status: OK PackageFile: CytoMDS_1.6.0.tgz PackageFileSize: 3.808 MiB