Package: CytoMDS Version: 1.4.0 Command: /Library/Frameworks/R.framework/Resources/bin/R CMD INSTALL CytoMDS StartedAt: 2025-10-13 15:57:18 -0400 (Mon, 13 Oct 2025) EndedAt: 2025-10-13 15:57:35 -0400 (Mon, 13 Oct 2025) EllapsedTime: 17.1 seconds RetCode: 0 Status: OK