Package: CytoGLMM Version: 1.18.0 Command: /home/biocbuild/bbs-3.22-bioc/R/bin/R CMD INSTALL CytoGLMM StartedAt: 2025-11-11 15:14:55 -0500 (Tue, 11 Nov 2025) EndedAt: 2025-11-11 15:15:18 -0500 (Tue, 11 Nov 2025) EllapsedTime: 23.5 seconds RetCode: 0 Status: OK