Package: CytoGLMM Version: 1.18.0 Command: /home/biocbuild/bbs-3.22-bioc/R/bin/R CMD check --install=check:CytoGLMM.install-out.txt --library=/home/biocbuild/bbs-3.22-bioc/R/site-library --timings CytoGLMM_1.18.0.tar.gz StartedAt: 2025-11-13 22:44:51 -0500 (Thu, 13 Nov 2025) EndedAt: 2025-11-13 22:48:30 -0500 (Thu, 13 Nov 2025) EllapsedTime: 218.2 seconds RetCode: 0 Status: OK CheckDir: CytoGLMM.Rcheck Warnings: 0