Package: CytoGLMM Version: 1.16.1 Command: /home/biocbuild/bbs-3.21-bioc/R/bin/R CMD build --keep-empty-dirs --no-resave-data CytoGLMM StartedAt: 2025-10-15 17:01:57 -0400 (Wed, 15 Oct 2025) EndedAt: 2025-10-15 17:03:30 -0400 (Wed, 15 Oct 2025) EllapsedTime: 93.1 seconds RetCode: 0 Status: OK PackageFile: CytoGLMM_1.16.1.tar.gz PackageFileSize: 346.8 KiB