Package: CytoGLMM Version: 1.16.1 Command: /home/biocbuild/R/R/bin/R CMD INSTALL CytoGLMM StartedAt: 2025-09-29 20:22:49 -0000 (Mon, 29 Sep 2025) EndedAt: 2025-09-29 20:23:11 -0000 (Mon, 29 Sep 2025) EllapsedTime: 21.6 seconds RetCode: 0 Status: OK