Package: CytoGLMM Version: 1.16.1 Command: /Library/Frameworks/R.framework/Resources/bin/R CMD INSTALL CytoGLMM StartedAt: 2025-10-13 15:30:14 -0400 (Mon, 13 Oct 2025) EndedAt: 2025-10-13 15:30:34 -0400 (Mon, 13 Oct 2025) EllapsedTime: 20.0 seconds RetCode: 0 Status: OK