Package: CytoDx Version: 1.30.0 Command: /home/biocbuild/bbs-3.22-bioc/R/bin/R CMD check --install=check:CytoDx.install-out.txt --library=/home/biocbuild/bbs-3.22-bioc/R/site-library --timings CytoDx_1.30.0.tar.gz StartedAt: 2025-11-18 02:35:51 -0500 (Tue, 18 Nov 2025) EndedAt: 2025-11-18 02:39:12 -0500 (Tue, 18 Nov 2025) EllapsedTime: 201.1 seconds RetCode: 0 Status: OK CheckDir: CytoDx.Rcheck Warnings: 0