Package: CytoDx Version: 1.30.0 Command: /home/biocbuild/bbs-3.22-bioc/R/bin/R CMD build --keep-empty-dirs --no-resave-data --md5 CytoDx StartedAt: 2025-11-11 17:12:26 -0500 (Tue, 11 Nov 2025) EndedAt: 2025-11-11 17:12:46 -0500 (Tue, 11 Nov 2025) EllapsedTime: 20.0 seconds RetCode: 0 Status: OK PackageFile: CytoDx_1.30.0.tar.gz PackageFileSize: 662.7 KiB