Package: CytoDx Version: 1.30.0 Command: /Library/Frameworks/R.framework/Resources/bin/R CMD INSTALL CytoDx StartedAt: 2025-11-03 15:20:16 -0500 (Mon, 03 Nov 2025) EndedAt: 2025-11-03 15:20:49 -0500 (Mon, 03 Nov 2025) EllapsedTime: 32.1 seconds RetCode: 0 Status: OK