Package: CytoDx Version: 1.30.0 Command: /Library/Frameworks/R.framework/Resources/bin/R CMD build --keep-empty-dirs --no-resave-data CytoDx StartedAt: 2025-11-03 16:40:02 -0500 (Mon, 03 Nov 2025) EndedAt: 2025-11-03 16:40:33 -0500 (Mon, 03 Nov 2025) EllapsedTime: 30.9 seconds RetCode: 0 Status: OK PackageFile: CytoDx_1.30.0.tar.gz PackageFileSize: 660.7 KiB