Package: CytoDx Version: 1.28.0 Command: /home/biocbuild/R/R/bin/R CMD INSTALL CytoDx StartedAt: 2025-10-13 20:25:41 -0000 (Mon, 13 Oct 2025) EndedAt: 2025-10-13 20:25:57 -0000 (Mon, 13 Oct 2025) EllapsedTime: 16.5 seconds RetCode: 0 Status: OK