Package: CytoDx Version: 1.28.0 Command: /home/biocbuild/R/R/bin/R CMD build --keep-empty-dirs --no-resave-data CytoDx StartedAt: 2025-10-14 00:01:23 -0000 (Tue, 14 Oct 2025) EndedAt: 2025-10-14 00:01:51 -0000 (Tue, 14 Oct 2025) EllapsedTime: 28.0 seconds RetCode: 0 Status: OK PackageFile: CytoDx_1.28.0.tar.gz PackageFileSize: 630 KiB