Package: CytoDx Version: 1.28.0 Command: rm -rf CytoDx.buildbin-libdir && mkdir CytoDx.buildbin-libdir && /Users/biocbuild/BBS/utils/build-universal.sh CytoDx_1.28.0.tar.gz /Library/Frameworks/R.framework/Resources/bin/R CytoDx.buildbin-libdir StartedAt: 2025-04-21 22:31:49 -0400 (Mon, 21 Apr 2025) EndedAt: 2025-04-21 22:31:55 -0400 (Mon, 21 Apr 2025) EllapsedTime: 6.1 seconds RetCode: 0 Status: OK PackageFile: CytoDx_1.28.0.tgz PackageFileSize: 516.3 KiB