Package: CyTOFpower Version: 1.16.0 Command: /home/biocbuild/R/R/bin/R CMD INSTALL CyTOFpower StartedAt: 2025-11-13 21:38:59 -0000 (Thu, 13 Nov 2025) EndedAt: 2025-11-13 21:39:08 -0000 (Thu, 13 Nov 2025) EllapsedTime: 9.1 seconds RetCode: 0 Status: OK