Package: CyTOFpower Version: 1.16.0 Command: /home/biocbuild/R/R/bin/R CMD build --keep-empty-dirs --no-resave-data CyTOFpower StartedAt: 2025-11-14 01:01:23 -0000 (Fri, 14 Nov 2025) EndedAt: 2025-11-14 01:01:34 -0000 (Fri, 14 Nov 2025) EllapsedTime: 11.0 seconds RetCode: 0 Status: OK PackageFile: CyTOFpower_1.16.0.tar.gz PackageFileSize: 338.6 KiB