Package: CyTOFpower Version: 1.14.0 Command: /home/biocbuild/bbs-3.21-bioc/R/bin/R CMD INSTALL CyTOFpower StartedAt: 2025-10-05 15:30:14 -0400 (Sun, 05 Oct 2025) EndedAt: 2025-10-05 15:30:20 -0400 (Sun, 05 Oct 2025) EllapsedTime: 5.4 seconds RetCode: 0 Status: OK