Package: CyTOFpower Version: 1.14.0 Command: /home/biocbuild/bbs-3.21-bioc/R/bin/R CMD build --keep-empty-dirs --no-resave-data CyTOFpower StartedAt: 2025-10-05 17:01:07 -0400 (Sun, 05 Oct 2025) EndedAt: 2025-10-05 17:01:15 -0400 (Sun, 05 Oct 2025) EllapsedTime: 8.0 seconds RetCode: 0 Status: OK PackageFile: CyTOFpower_1.14.0.tar.gz PackageFileSize: 312.2 KiB