Package: CyTOFpower Version: 1.14.0 Command: rm -rf CyTOFpower.buildbin-libdir && mkdir CyTOFpower.buildbin-libdir && /Users/biocbuild/BBS/utils/build-universal.sh CyTOFpower_1.14.0.tar.gz /Library/Frameworks/R.framework/Resources/bin/R CyTOFpower.buildbin-libdir StartedAt: 2025-10-08 20:28:11 -0400 (Wed, 08 Oct 2025) EndedAt: 2025-10-08 20:28:20 -0400 (Wed, 08 Oct 2025) EllapsedTime: 9.1 seconds RetCode: 0 Status: OK PackageFile: CyTOFpower_1.14.0.tgz PackageFileSize: 555.4 KiB